BEGIN:VCALENDAR
VERSION:2.0
PRODID:-//ChamberMaster//Event Calendar 2.0//EN
METHOD:PUBLISH
X-PUBLISHED-TTL:P1H
REFRESH-INTERVAL:P1H
CALSCALE:GREGORIAN
BEGIN:VTIMEZONE
TZID:America/New_York
BEGIN:DAYLIGHT
RRULE:FREQ=YEARLY;BYMONTH=3;BYDAY=2SU
DTSTART:20070101T000000
TZOFFSETFROM:-0500
TZOFFSETTO:-0400
TZNAME:Eastern Daylight Time
END:DAYLIGHT
BEGIN:STANDARD
RRULE:FREQ=YEARLY;BYMONTH=11;BYDAY=1SU
DTSTART:20070101T000000
TZOFFSETFROM:-0400
TZOFFSETTO:-0500
TZNAME:Eastern Standard Time
END:STANDARD
END:VTIMEZONE
BEGIN:VEVENT
DTSTART;TZID=America/New_York:20260609T090000
DTEND;TZID=America/New_York:20260609T150000
X-MICROSOFT-CDO-ALLDAYEVENT:FALSE
SUMMARY:GRI 402 6 Hr CE - Susan Barnette
DESCRIPTION:Instructor: Susan Barnette GRI 402 - 6 Hr CE (note there are a total of 6 classes (6 hours each) that are required to get your GRI designation. We are offering all 6 so please sign up for them all.  What Is a GRI Designation\, and Who Is It For?Earning the Graduate\, REALTOR  Institute (GRI) designation is a way to stand out to prospective home buyers and sellers as a REALTOR  who has gained in-depth market knowledge\, increased proficiency in a broad array of subjects to enhance professionalism and business success.Benefits of Becoming a GRIBe better able to serve and protect your increasingly sophisticated clients through an understanding of new technology\, laws\, and proceduresUse of GRI logosMarketing materialsCustomizable flyerBanner adPostcardGRI referral formNetwork with other GRI designeesApplication fee of $34.99 1 x fee
X-ALT-DESC;FMTTYPE=text/html:<!DOCTYPE html><html><head><title></title></head><body aria-disabled="false"><p>&nbsp\;</p><h2 style='box-sizing: inherit\; border: 0px solid rgb(209\, 209\, 209)\; --tw-ring-inset: \; --tw-ring-offset-width: 0px\; --tw-ring-offset-color: #fff\; --tw-ring-color: rgba(59\,130\,246\,.5)\; --tw-ring-offset-shadow: 0 0 #0000\; --tw-ring-shadow: 0 0 #0000\; --tw-shadow: 0 0 #0000\; --tw-shadow-colored: 0 0 #0000\; font-weight: 700\; color: rgb(51\, 51\, 51)\; margin: 0px 0px 1em\; font-size: 24px\; line-height: 36px\; font-family: __Montserrat_069ab3\, __Montserrat_Fallback_069ab3\, ui-sans-serif\, system-ui\, sans-serif\, "Apple Color Emoji"\, "Segoe UI Emoji"\, "Segoe UI Symbol"\, "Noto Color Emoji"\; font-style: normal\; font-variant-ligatures: normal\; font-variant-caps: normal\; letter-spacing: normal\; orphans: 2\; text-align: start\; text-indent: 0px\; text-transform: none\; widows: 2\; word-spacing: 0px\; -webkit-text-stroke-width: 0px\; white-space: normal\; background-color: rgb(255\, 255\, 255)\; text-decoration-thickness: initial\; text-decoration-style: initial\; text-decoration-color: initial\;'>Instructor: Susan Barnette&nbsp\;</h2><p><span style="font-size: 24px\;">GRI 402 - 6 Hr CE (note there are a total of 6 classes (6 hours each) that are required to get your GRI designation. We are offering all 6 so please sign up for them all. &nbsp\;</span></p><h2 style='box-sizing: inherit\; border: 0px solid rgb(209\, 209\, 209)\; --tw-ring-inset: \; --tw-ring-offset-width: 0px\; --tw-ring-offset-color: #fff\; --tw-ring-color: rgba(59\,130\,246\,.5)\; --tw-ring-offset-shadow: 0 0 #0000\; --tw-ring-shadow: 0 0 #0000\; --tw-shadow: 0 0 #0000\; --tw-shadow-colored: 0 0 #0000\; font-weight: 700\; color: rgb(51\, 51\, 51)\; margin: 0px 0px 1em\; font-size: 24px\; line-height: 36px\; font-family: __Montserrat_069ab3\, __Montserrat_Fallback_069ab3\, ui-sans-serif\, system-ui\, sans-serif\, "Apple Color Emoji"\, "Segoe UI Emoji"\, "Segoe UI Symbol"\, "Noto Color Emoji"\; font-style: normal\; font-variant-ligatures: normal\; font-variant-caps: normal\; letter-spacing: normal\; orphans: 2\; text-align: start\; text-indent: 0px\; text-transform: none\; widows: 2\; word-spacing: 0px\; -webkit-text-stroke-width: 0px\; white-space: normal\; background-color: rgb(255\, 255\, 255)\; text-decoration-thickness: initial\; text-decoration-style: initial\; text-decoration-color: initial\;'>What Is a GRI Designation\, and Who Is It For?</h2><p style='box-sizing: inherit\; border: 0px solid rgb(209\, 209\, 209)\; --tw-ring-inset: \; --tw-ring-offset-width: 0px\; --tw-ring-offset-color: #fff\; --tw-ring-color: rgba(59\,130\,246\,.5)\; --tw-ring-offset-shadow: 0 0 #0000\; --tw-ring-shadow: 0 0 #0000\; --tw-shadow: 0 0 #0000\; --tw-shadow-colored: 0 0 #0000\; margin: 0px 0px 1.5em\; min-height: 1.5em\; line-height: 26px\; font-size: 17px\; max-width: 700px\; font-weight: 500\; color: rgb(51\, 51\, 51)\; font-family: __Montserrat_069ab3\, __Montserrat_Fallback_069ab3\, ui-sans-serif\, system-ui\, sans-serif\, "Apple Color Emoji"\, "Segoe UI Emoji"\, "Segoe UI Symbol"\, "Noto Color Emoji"\; font-style: normal\; font-variant-ligatures: normal\; font-variant-caps: normal\; letter-spacing: normal\; orphans: 2\; text-align: start\; text-indent: 0px\; text-transform: none\; widows: 2\; word-spacing: 0px\; -webkit-text-stroke-width: 0px\; white-space: normal\; background-color: rgb(255\, 255\, 255)\; text-decoration-thickness: initial\; text-decoration-style: initial\; text-decoration-color: initial\;'>Earning the Graduate\, REALTOR&reg\; Institute (GRI) designation is a way to stand out to prospective home buyers and sellers as a REALTOR&reg\; who has gained in-depth market knowledge\, increased proficiency in a broad array of subjects to enhance professionalism and business success.</p><h2 style='box-sizing: inherit\; border: 0px solid rgb(209\, 209\, 209)\; --tw-ring-inset: \; --tw-ring-offset-width: 0px\; --tw-ring-offset-color: #fff\; --tw-ring-color: rgba(59\,130\,246\,.5)\; --tw-ring-offset-shadow: 0 0 #0000\; --tw-ring-shadow: 0 0 #0000\; --tw-shadow: 0 0 #0000\; --tw-shadow-colored: 0 0 #0000\; font-weight: 700\; color: rgb(51\, 51\, 51)\; margin: 0px 0px 1em\; font-size: 24px\; line-height: 36px\; font-family: __Montserrat_069ab3\, __Montserrat_Fallback_069ab3\, ui-sans-serif\, system-ui\, sans-serif\, "Apple Color Emoji"\, "Segoe UI Emoji"\, "Segoe UI Symbol"\, "Noto Color Emoji"\; font-style: normal\; font-variant-ligatures: normal\; font-variant-caps: normal\; letter-spacing: normal\; orphans: 2\; text-align: start\; text-indent: 0px\; text-transform: none\; widows: 2\; word-spacing: 0px\; -webkit-text-stroke-width: 0px\; white-space: normal\; background-color: rgb(255\, 255\, 255)\; text-decoration-thickness: initial\; text-decoration-style: initial\; text-decoration-color: initial\;'>Benefits of Becoming a GRI</h2><ul fr-original-style='box-sizing: inherit\; border: 0px solid rgb(209\, 209\, 209)\; --tw-ring-inset: \; --tw-ring-offset-width: 0px\; --tw-ring-offset-color: #fff\; --tw-ring-color: rgba(59\,130\,246\,.5)\; --tw-ring-offset-shadow: 0 0 #0000\; --tw-ring-shadow: 0 0 #0000\; --tw-shadow: 0 0 #0000\; --tw-shadow-colored: 0 0 #0000\; margin: 0px 0px 1.5em 1em\; padding: 0px\; font-size: 17px\; max-width: 700px\; font-weight: 500\; list-style-type: none\; color: rgb(51\, 51\, 51)\; font-family: __Montserrat_069ab3\, __Montserrat_Fallback_069ab3\, ui-sans-serif\, system-ui\, sans-serif\, "Apple Color Emoji"\, "Segoe UI Emoji"\, "Segoe UI Symbol"\, "Noto Color Emoji"\; font-style: normal\; font-variant-ligatures: normal\; font-variant-caps: normal\; letter-spacing: normal\; orphans: 2\; text-align: start\; text-indent: 0px\; text-transform: none\; widows: 2\; word-spacing: 0px\; -webkit-text-stroke-width: 0px\; white-space: normal\; background-color: rgb(255\, 255\, 255)\; text-decoration-thickness: initial\; text-decoration-style: initial\; text-decoration-color: initial\;' style='box-sizing: inherit\; border: 0px solid rgb(209\, 209\, 209)\; --tw-ring-inset: \; --tw-ring-offset-width: 0px\; --tw-ring-offset-color: #fff\; --tw-ring-color: rgba(59\,130\,246\,.5)\; --tw-ring-offset-shadow: 0 0 #0000\; --tw-ring-shadow: 0 0 #0000\; --tw-shadow: 0 0 #0000\; --tw-shadow-colored: 0 0 #0000\; margin: 0px 0px 1.5em 1em\; padding: 0px\; font-size: 17px\; max-width: 700px\; font-weight: 500\; list-style-type: none\; color: rgb(51\, 51\, 51)\; font-family: __Montserrat_069ab3\, __Montserrat_Fallback_069ab3\, ui-sans-serif\, system-ui\, sans-serif\, "Apple Color Emoji"\, "Segoe UI Emoji"\, "Segoe UI Symbol"\, "Noto Color Emoji"\; font-style: normal\; font-variant-ligatures: normal\; font-variant-caps: normal\; letter-spacing: normal\; orphans: 2\; text-align: start\; text-indent: 0px\; text-transform: none\; widows: 2\; word-spacing: 0px\; -webkit-text-stroke-width: 0px\; white-space: normal\; background-color: rgb(255\, 255\, 255)\; text-decoration-thickness: initial\; text-decoration-style: initial\; text-decoration-color: initial\; list-style-position: inside\;'><li style="box-sizing: inherit\; border: 0px solid rgb(209\, 209\, 209)\; --tw-ring-inset: \; --tw-ring-offset-width: 0px\; --tw-ring-offset-color: #fff\; --tw-ring-color: rgba(59\,130\,246\,.5)\; --tw-ring-offset-shadow: 0 0 #0000\; --tw-ring-shadow: 0 0 #0000\; --tw-shadow: 0 0 #0000\; --tw-shadow-colored: 0 0 #0000\; position: relative\; display: table\; padding-left: 0.75em\; line-height: 26px\;">Be better able to serve and protect your increasingly sophisticated clients through an understanding of new technology\, laws\, and procedures</li><li style="box-sizing: inherit\; border: 0px solid rgb(209\, 209\, 209)\; --tw-ring-inset: \; --tw-ring-offset-width: 0px\; --tw-ring-offset-color: #fff\; --tw-ring-color: rgba(59\,130\,246\,.5)\; --tw-ring-offset-shadow: 0 0 #0000\; --tw-ring-shadow: 0 0 #0000\; --tw-shadow: 0 0 #0000\; --tw-shadow-colored: 0 0 #0000\; position: relative\; display: table\; padding-left: 0.75em\; line-height: 26px\; margin-top: 10px\;">Use of GRI logos</li><li style="box-sizing: inherit\; border: 0px solid rgb(209\, 209\, 209)\; --tw-ring-inset: \; --tw-ring-offset-width: 0px\; --tw-ring-offset-color: #fff\; --tw-ring-color: rgba(59\,130\,246\,.5)\; --tw-ring-offset-shadow: 0 0 #0000\; --tw-ring-shadow: 0 0 #0000\; --tw-shadow: 0 0 #0000\; --tw-shadow-colored: 0 0 #0000\; position: relative\; display: table\; padding-left: 0.75em\; line-height: 26px\; margin-top: 10px\;">Marketing materials<ul fr-original-style="box-sizing: inherit\; border: 0px solid rgb(209\, 209\, 209)\; --tw-ring-inset: \; --tw-ring-offset-width: 0px\; --tw-ring-offset-color: #fff\; --tw-ring-color: rgba(59\,130\,246\,.5)\; --tw-ring-offset-shadow: 0 0 #0000\; --tw-ring-shadow: 0 0 #0000\; --tw-shadow: 0 0 #0000\; --tw-shadow-colored: 0 0 #0000\; margin: 10px 0px 0px 1em\; padding: 0px\; font-size: 0.9375em\; max-width: 700px\; font-weight: 500\; list-style-type: none\;" style="box-sizing: inherit\; border: 0px solid rgb(209\, 209\, 209)\; --tw-ring-inset: \; --tw-ring-offset-width: 0px\; --tw-ring-offset-color: #fff\; --tw-ring-color: rgba(59\,130\,246\,.5)\; --tw-ring-offset-shadow: 0 0 #0000\; --tw-ring-shadow: 0 0 #0000\; --tw-shadow: 0 0 #0000\; --tw-shadow-colored: 0 0 #0000\; margin: 10px 0px 0px 1em\; padding: 0px\; font-size: 0.9375em\; max-width: 700px\; font-weight: 500\; list-style-type: none\; list-style-position: inside\;"><li style="box-sizing: inherit\; border: 0px solid rgb(209\, 209\, 209)\; --tw-ring-inset: \; --tw-ring-offset-width: 0px\; --tw-ring-offset-color: #fff\; --tw-ring-color: rgba(59\,130\,246\,.5)\; --tw-ring-offset-shadow: 0 0 #0000\; --tw-ring-shadow: 0 0 #0000\; --tw-shadow: 0 0 #0000\; --tw-shadow-colored: 0 0 #0000\; position: relative\; padding-left: 0.75em\; display: table\; line-height: 26px\;">Customizable flyer</li><li style="box-sizing: inherit\; border: 0px solid rgb(209\, 209\, 209)\; --tw-ring-inset: \; --tw-ring-offset-width: 0px\; --tw-ring-offset-color: #fff\; --tw-ring-color: rgba(59\,130\,246\,.5)\; --tw-ring-offset-shadow: 0 0 #0000\; --tw-ring-shadow: 0 0 #0000\; --tw-shadow: 0 0 #0000\; --tw-shadow-colored: 0 0 #0000\; position: relative\; padding-left: 0.75em\; display: table\; line-height: 26px\; margin-top: 10px\;">Banner ad</li><li style="box-sizing: inherit\; border: 0px solid rgb(209\, 209\, 209)\; --tw-ring-inset: \; --tw-ring-offset-width: 0px\; --tw-ring-offset-color: #fff\; --tw-ring-color: rgba(59\,130\,246\,.5)\; --tw-ring-offset-shadow: 0 0 #0000\; --tw-ring-shadow: 0 0 #0000\; --tw-shadow: 0 0 #0000\; --tw-shadow-colored: 0 0 #0000\; position: relative\; padding-left: 0.75em\; display: table\; line-height: 26px\; margin-top: 10px\;">Postcard</li></ul></li><li style="box-sizing: inherit\; border: 0px solid rgb(209\, 209\, 209)\; --tw-ring-inset: \; --tw-ring-offset-width: 0px\; --tw-ring-offset-color: #fff\; --tw-ring-color: rgba(59\,130\,246\,.5)\; --tw-ring-offset-shadow: 0 0 #0000\; --tw-ring-shadow: 0 0 #0000\; --tw-shadow: 0 0 #0000\; --tw-shadow-colored: 0 0 #0000\; position: relative\; display: table\; padding-left: 0.75em\; line-height: 26px\; margin-top: 10px\;">GRI referral form</li><li style="box-sizing: inherit\; border: 0px solid rgb(209\, 209\, 209)\; --tw-ring-inset: \; --tw-ring-offset-width: 0px\; --tw-ring-offset-color: #fff\; --tw-ring-color: rgba(59\,130\,246\,.5)\; --tw-ring-offset-shadow: 0 0 #0000\; --tw-ring-shadow: 0 0 #0000\; --tw-shadow: 0 0 #0000\; --tw-shadow-colored: 0 0 #0000\; position: relative\; display: table\; padding-left: 0.75em\; line-height: 26px\; margin-top: 10px\;">Network with other GRI designees</li><li style="box-sizing: inherit\; border: 0px solid rgb(209\, 209\, 209)\; --tw-ring-inset: \; --tw-ring-offset-width: 0px\; --tw-ring-offset-color: #fff\; --tw-ring-color: rgba(59\,130\,246\,.5)\; --tw-ring-offset-shadow: 0 0 #0000\; --tw-ring-shadow: 0 0 #0000\; --tw-shadow: 0 0 #0000\; --tw-shadow-colored: 0 0 #0000\; position: relative\; display: table\; padding-left: 0.75em\; line-height: 26px\; margin-top: 10px\;">Application fee of $34.99 1 x fee&nbsp\;</li></ul></body></html>
LOCATION:1109 Glennhill Ln Sevierville TN 37862-6906
UID:e.3595.1445316
SEQUENCE:3
DTSTAMP:20260424T135409Z
URL:https://members.gsmar.org/calendar/Details/gri-402-6-hr-ce-susan-barnette-1711813?sourceTypeId=Hub
END:VEVENT
END:VCALENDAR
